BEGIN:VCALENDAR
VERSION:2.0
PRODID:-//SABRICS Think Tank - ECPv6.15.20//NONSGML v1.0//EN
CALSCALE:GREGORIAN
METHOD:PUBLISH
X-ORIGINAL-URL:https://sabtt.org.za
X-WR-CALDESC:Events for SABRICS Think Tank
REFRESH-INTERVAL;VALUE=DURATION:PT1H
X-Robots-Tag:noindex
X-PUBLISHED-TTL:PT1H
BEGIN:VTIMEZONE
TZID:Asia/Dubai
BEGIN:STANDARD
TZOFFSETFROM:+0400
TZOFFSETTO:+0400
TZNAME:+04
DTSTART:20230101T000000
END:STANDARD
END:VTIMEZONE
BEGIN:VEVENT
DTSTART;VALUE=DATE:20250811
DTEND;VALUE=DATE:20250813
DTSTAMP:20260421T235103
CREATED:20250630T094914Z
LAST-MODIFIED:20250630T094914Z
UID:4596-1754877600-1754963999@sabtt.org.za
SUMMARY:Meeting of Presidents of BRICS Supreme Courts
DESCRIPTION:Federal Supreme Court
URL:https://sabtt.org.za/event/meeting-of-presidents-of-brics-supreme-courts/
LOCATION:Brazil\, Brazil
CATEGORIES:Forum/Conferences,Meeting of ministers/heads of agencies
END:VEVENT
BEGIN:VEVENT
DTSTART;TZID=Asia/Dubai:20250725T080000
DTEND;TZID=Asia/Dubai:20250727T170000
DTSTAMP:20260421T235103
CREATED:20250630T094527Z
LAST-MODIFIED:20250630T094527Z
UID:4592-1753430400-1753635600@sabtt.org.za
SUMMARY:BRICS Think Tank Network for Finance Annual Meeting
DESCRIPTION:Ministry of Finance
URL:https://sabtt.org.za/event/brics-think-tank-network-for-finance-annual-meeting/
LOCATION:Brazil\, Brazil
CATEGORIES:Forum/Conferences
END:VEVENT
BEGIN:VEVENT
DTSTART;VALUE=DATE:20250706
DTEND;VALUE=DATE:20250709
DTSTAMP:20260421T235103
CREATED:20250630T094409Z
LAST-MODIFIED:20250630T094409Z
UID:4590-1751767200-1751939999@sabtt.org.za
SUMMARY:BRICS Summit
DESCRIPTION:Ministry of Foreign Affairs
URL:https://sabtt.org.za/event/brics-summit/
LOCATION:Rio de Janeiro\, Brazil
CATEGORIES:Forum/Conferences
END:VEVENT
BEGIN:VEVENT
DTSTART;VALUE=DATE:20250705
DTEND;VALUE=DATE:20250707
DTSTAMP:20260421T235103
CREATED:20250630T094123Z
LAST-MODIFIED:20250630T094123Z
UID:4586-1751680800-1751767199@sabtt.org.za
SUMMARY:BRICS Business Forum
DESCRIPTION:National Confederation of Industry
URL:https://sabtt.org.za/event/brics-business-forum/
LOCATION:Brazil\, Brazil
CATEGORIES:Forum/Conferences
END:VEVENT
BEGIN:VEVENT
DTSTART;VALUE=DATE:20250625
DTEND;VALUE=DATE:20250628
DTSTAMP:20260421T235103
CREATED:20250609T085303Z
LAST-MODIFIED:20250609T085414Z
UID:4538-1750816800-1750989599@sabtt.org.za
SUMMARY:BRICS Think Tanks Council (BTTC) Annual Meeting\, BRICS Think Tanks Network for Finance (BTTNF) Annual Meeting and XVII FABRICS (BRICS Academic Forum)
DESCRIPTION:Institute for Applied Economic Research
URL:https://sabtt.org.za/event/brics-think-tanks-council-bttc-annual-meeting-brics-think-tanks-network-for-finance-bttnf-annual-meeting-and-xvii-fabrics-brics-academic-forum/
LOCATION:SERPRO\, Brazil
CATEGORIES:Forum/Conferences
END:VEVENT
BEGIN:VEVENT
DTSTART;VALUE=DATE:20250603
DTEND;VALUE=DATE:20250607
DTSTAMP:20260421T235103
CREATED:20250520T133350Z
LAST-MODIFIED:20250520T133350Z
UID:4476-1748916000-1749175199@sabtt.org.za
SUMMARY:11th BRICS Parliamentary Forum
DESCRIPTION:National Congress of Brazil
URL:https://sabtt.org.za/event/11th-brics-parliamentary-forum/
LOCATION:Congresso Nacional\, Brazil
CATEGORIES:Forum/Conferences
END:VEVENT
BEGIN:VEVENT
DTSTART;TZID=Asia/Dubai:20250520T080000
DTEND;TZID=Asia/Dubai:20250520T170000
DTSTAMP:20260421T235103
CREATED:20250514T131513Z
LAST-MODIFIED:20250514T131513Z
UID:4410-1747728000-1747760400@sabtt.org.za
SUMMARY:Regional Thematic Webinar: BRICS – Central-West
DESCRIPTION:General Secretariat of the Presidency of the Republic
URL:https://sabtt.org.za/event/regional-thematic-webinar-brics-central-west/
LOCATION:Brazil\, Brazil
CATEGORIES:Forum/Conferences
END:VEVENT
BEGIN:VEVENT
DTSTART;VALUE=DATE:20250520
DTEND;VALUE=DATE:20250522
DTSTAMP:20260421T235103
CREATED:20250514T131404Z
LAST-MODIFIED:20250514T131404Z
UID:4408-1747706400-1747792799@sabtt.org.za
SUMMARY:Regional Thematic Webinar: BRICS
DESCRIPTION:General Secretariat of the Presidency of the Republic
URL:https://sabtt.org.za/event/regional-thematic-webinar-brics/
LOCATION:Brazil\, Brazil
CATEGORIES:Forum/Conferences
END:VEVENT
BEGIN:VEVENT
DTSTART;VALUE=DATE:20240928
DTEND;VALUE=DATE:20240930
DTSTAMP:20260421T235103
CREATED:20240925T104312Z
LAST-MODIFIED:20240925T104312Z
UID:4193-1727488800-1727575199@sabtt.org.za
SUMMARY:BRICS+ Youth Energy Summit
DESCRIPTION:
URL:https://sabtt.org.za/event/brics-youth-energy-summit/
LOCATION:Moscow\, Russian Federation
CATEGORIES:Forum/Conferences
END:VEVENT
BEGIN:VEVENT
DTSTART;VALUE=DATE:20240926
DTEND;VALUE=DATE:20240929
DTSTAMP:20260421T235103
CREATED:20240925T104025Z
LAST-MODIFIED:20240925T104025Z
UID:4183-1727316000-1727488799@sabtt.org.za
SUMMARY:Digital BRICS Forum
DESCRIPTION:
URL:https://sabtt.org.za/event/digital-brics-forum/
LOCATION:Innopolis\, Republic of Tatarstan\, Russian Federation
CATEGORIES:Forum/Conferences
END:VEVENT
BEGIN:VEVENT
DTSTART;VALUE=DATE:20240913
DTEND;VALUE=DATE:20240919
DTSTAMP:20260421T235103
CREATED:20240903T111055Z
LAST-MODIFIED:20240903T111055Z
UID:4162-1726192800-1726624799@sabtt.org.za
SUMMARY:BRICS Media Summit
DESCRIPTION:
URL:https://sabtt.org.za/event/brics-media-summit/
LOCATION:Moscow\, Russian Federation
CATEGORIES:Forum/Conferences
END:VEVENT
BEGIN:VEVENT
DTSTART;VALUE=DATE:20240912
DTEND;VALUE=DATE:20240914
DTSTAMP:20260421T235103
CREATED:20240903T111019Z
LAST-MODIFIED:20240903T111019Z
UID:4160-1726106400-1726192799@sabtt.org.za
SUMMARY:BRICS Cultural Festival
DESCRIPTION:
URL:https://sabtt.org.za/event/brics-cultural-festival/
LOCATION:St. Petersburg\, St. Petersburg\, Russian Federation
CATEGORIES:Forum/Conferences
END:VEVENT
BEGIN:VEVENT
DTSTART;VALUE=DATE:20240907
DTEND;VALUE=DATE:20240910
DTSTAMP:20260421T235103
CREATED:20240903T110357Z
LAST-MODIFIED:20240903T110357Z
UID:4141-1725674400-1725847199@sabtt.org.za
SUMMARY:13th BRICS Trade Union Forum
DESCRIPTION:
URL:https://sabtt.org.za/event/13th-brics-trade-union-forum/
LOCATION:Sochi\, Russian Federation
CATEGORIES:Forum/Conferences
END:VEVENT
BEGIN:VEVENT
DTSTART;VALUE=DATE:20240903
DTEND;VALUE=DATE:20240908
DTSTAMP:20260421T235103
CREATED:20240903T110310Z
LAST-MODIFIED:20240903T110310Z
UID:4139-1725328800-1725674399@sabtt.org.za
SUMMARY:BRICS Forum of Creative Innovations
DESCRIPTION:
URL:https://sabtt.org.za/event/brics-forum-of-creative-innovations/
LOCATION:Vladivostok\, Russian Federation
CATEGORIES:Forum/Conferences
END:VEVENT
BEGIN:VEVENT
DTSTART;VALUE=DATE:20240901
DTEND;VALUE=DATE:20241002
DTSTAMP:20260421T235103
CREATED:20240925T104504Z
LAST-MODIFIED:20240925T104504Z
UID:4199-1725156000-1727747999@sabtt.org.za
SUMMARY:BRICS Fashion Forum
DESCRIPTION:
URL:https://sabtt.org.za/event/brics-fashion-forum/
LOCATION:Moscow\, Russian Federation
CATEGORIES:Forum/Conferences
END:VEVENT
BEGIN:VEVENT
DTSTART;TZID=Asia/Dubai:20240827T080000
DTEND;TZID=Asia/Dubai:20240828T170000
DTSTAMP:20260421T235103
CREATED:20240820T091214Z
LAST-MODIFIED:20240820T091214Z
UID:3881-1724745600-1724864400@sabtt.org.za
SUMMARY:BRICS+ International Municipal Forum
DESCRIPTION:
URL:https://sabtt.org.za/event/brics-international-municipal-forum/
LOCATION:Moscow\, Russian Federation
CATEGORIES:Forum/Conferences
END:VEVENT
BEGIN:VEVENT
DTSTART;VALUE=DATE:20240821
DTEND;VALUE=DATE:20240827
DTSTAMP:20260421T235103
CREATED:20240820T091109Z
LAST-MODIFIED:20240820T091109Z
UID:3876-1724205600-1724637599@sabtt.org.za
SUMMARY:IV BRICS Youth Camp
DESCRIPTION:
URL:https://sabtt.org.za/event/iv-brics-youth-camp/
LOCATION:Ulyanovsk\, Russian Federation
CATEGORIES:Forum/Conferences
END:VEVENT
BEGIN:VEVENT
DTSTART;TZID=Asia/Dubai:20240820T080000
DTEND;TZID=Asia/Dubai:20240820T170000
DTSTAMP:20260421T235103
CREATED:20240820T091807Z
LAST-MODIFIED:20240820T091807Z
UID:3890-1724140800-1724173200@sabtt.org.za
SUMMARY:BRICS Climate Agenda in Modern Conditions Forum
DESCRIPTION:
URL:https://sabtt.org.za/event/brics-climate-agenda-in-modern-conditions-forum-2/
LOCATION:Moscow\, Russian Federation
CATEGORIES:Forum/Conferences
END:VEVENT
BEGIN:VEVENT
DTSTART;VALUE=DATE:20240801
DTEND;VALUE=DATE:20240902
DTSTAMP:20260421T235103
CREATED:20240731T143043Z
LAST-MODIFIED:20240731T143043Z
UID:3840-1722477600-1725155999@sabtt.org.za
SUMMARY:BRICS Climate Agenda in Modern Conditions Forum
DESCRIPTION:
URL:https://sabtt.org.za/event/brics-climate-agenda-in-modern-conditions-forum/
LOCATION:Moscow\, Russian Federation
CATEGORIES:Forum/Conferences
END:VEVENT
END:VCALENDAR